BEGIN:VCALENDAR
VERSION:2.0
PRODID:-//Létezés Öröme - ECPv6.15.16//NONSGML v1.0//EN
CALSCALE:GREGORIAN
METHOD:PUBLISH
X-WR-CALNAME:Létezés Öröme
X-ORIGINAL-URL:https://www.letezesorome.hu
X-WR-CALDESC:Események Létezés Öröme
REFRESH-INTERVAL;VALUE=DURATION:PT1H
X-Robots-Tag:noindex
X-PUBLISHED-TTL:PT1H
BEGIN:VTIMEZONE
TZID:Europe/Budapest
BEGIN:DAYLIGHT
TZOFFSETFROM:+0100
TZOFFSETTO:+0200
TZNAME:CEST
DTSTART:20250330T010000
END:DAYLIGHT
BEGIN:STANDARD
TZOFFSETFROM:+0200
TZOFFSETTO:+0100
TZNAME:CET
DTSTART:20251026T010000
END:STANDARD
BEGIN:DAYLIGHT
TZOFFSETFROM:+0100
TZOFFSETTO:+0200
TZNAME:CEST
DTSTART:20260329T010000
END:DAYLIGHT
BEGIN:STANDARD
TZOFFSETFROM:+0200
TZOFFSETTO:+0100
TZNAME:CET
DTSTART:20261025T010000
END:STANDARD
BEGIN:DAYLIGHT
TZOFFSETFROM:+0100
TZOFFSETTO:+0200
TZNAME:CEST
DTSTART:20270328T010000
END:DAYLIGHT
BEGIN:STANDARD
TZOFFSETFROM:+0200
TZOFFSETTO:+0100
TZNAME:CET
DTSTART:20271031T010000
END:STANDARD
END:VTIMEZONE
BEGIN:VEVENT
DTSTART;TZID=Europe/Budapest:20260421T140000
DTEND;TZID=Europe/Budapest:20260421T170000
DTSTAMP:20260421T121429
CREATED:20260209T100812Z
LAST-MODIFIED:20260415T095817Z
UID:10002074-1776780000-1776790800@www.letezesorome.hu
SUMMARY:Megújulás egészség klub - Ingyenes kipróbálási lehetőséggel
DESCRIPTION:Stresszoldó\, energetizáló\, megújító kezelések\nJelenlegi társadalmunkban fokozottan jellemző a stressz terheltség\,\nvalamint a városi életmód okozta környezeti ártalmak hatása. \nEzen kiemelt területek közé tartoznak: \n\nStresszcsökkentés\, pihentetés és regeneráció\nImmunrendszer erősítése\nFájdalom csökkentés\nGyulladás csökkentés\nEmésztési problémák\nMozgásszervi problémák\nBőr- és hajproblémák\nProsztata problémák\nInkontinencia\nMenstruációs panaszok\n\nCélunk az egészség megőrzés\, regenerálódás\, az egyének jólléte\, egy tudatos magas rezgésű társadalomban.\nSzeretnénk létrehozni a hagyományos kínai medicina és a modern kvantumtechnológiák segítségével működő\nKözösségi Egészségközpontokat országszerte. \nEgy kötetlen délutáni beszélgetés közben\, ki is próbálhatsz néhány kezelést\nés személyes tapasztalatot szerezhet a sejtszintű támogatás hatásairól. \nKiket várunk: \n\nakiknek fontos a saját és mások jóléte.\nvalódi Egészség iránt nyitott embereket. \nGyógyulni vágyókat\, Gyógyítókat\, Segítőket\n\nA regeneráló kb. 1 órás komplex kezelések ingyenes kipróbálása 14h és 17h között lehetséges.\nÉrdeklődni\, jelentkezni Krisztics Áginál tudsz telefonon 0630 499 3354 vagy email-ben letezesoromekozpont@gmail.com
URL:https://www.letezesorome.hu/event/egeszseg-klub/
LOCATION:Létezés Öröme Spirituális és Meditációs Központ\, Lövőház u. 29. 1.emelet\, Budapest\, Budapest\, 1024\, Hungary
CATEGORIES:Egészség,Egyensúly,Előadás
ATTACH;FMTTYPE=image/png:https://www.letezesorome.hu/wp-content/uploads/2026/02/Whieda-bemutato.png
ORGANIZER;CN="Krisztics %C3%81gnes":MAILTO:letezesoromekozpont@gmail.com
END:VEVENT
END:VCALENDAR