BEGIN:VCALENDAR
VERSION:2.0
PRODID:-//Létezés Öröme - ECPv6.15.16//NONSGML v1.0//EN
CALSCALE:GREGORIAN
METHOD:PUBLISH
X-WR-CALNAME:Létezés Öröme
X-ORIGINAL-URL:https://www.letezesorome.hu
X-WR-CALDESC:Események Létezés Öröme
REFRESH-INTERVAL;VALUE=DURATION:PT1H
X-Robots-Tag:noindex
X-PUBLISHED-TTL:PT1H
BEGIN:VTIMEZONE
TZID:UTC
BEGIN:STANDARD
TZOFFSETFROM:+0000
TZOFFSETTO:+0000
TZNAME:UTC
DTSTART:20250101T000000
END:STANDARD
END:VTIMEZONE
BEGIN:VEVENT
DTSTART;TZID=UTC:20260423T173000
DTEND;TZID=UTC:20260423T210000
DTSTAMP:20260423T155724
CREATED:20241105T114242Z
LAST-MODIFIED:20260416T181104Z
UID:10002041-1776965400-1776978000@www.letezesorome.hu
SUMMARY:Helyzetállítás - Családállítás mintájára\, kis csoportban
DESCRIPTION:Ha szeretnél változtatni a megoldhatatlannak tűnő helyzeteken\, munkahelyi- vagy családi konfliktuson\, párkapcsolati problémádon\, vagy más beragadt kapcsolatodat szeretnéd oldani\, ha szeretnél rálátni mi zajlik körülötted\, megérteni a másokban zajló érzelmi folyamatokat\, vagy szeretnéd feltárni a családodban zajló viselkedési mintákat\, akkor gyere a helyzetedet felállítani. \nMiben segít ez a kis csoportban végzett helyzetállítás?Felismered a probléma forrását\, megismered a köztetek áramló energiák dinamikáját\, vállalt változtatások következményeit. Megláthatod\, hogy mi a másik valós problémája és megértheted őt is. Az állítás segítségedre lesz a probléma oldására\, fájdalmak elengedésére\, boldogabb létezés elérésére.\nAki beállóként vesz részt\, az állításon megtapasztalt érzésekkel gazdagodhat\, amelyek minden esetben fontos üzenettel bírnak jelen életükre\, valamint az oldások az Ő életükben is elindulnak.\n \n1. csoport 15.30-tól\,2. csoport 17.30-tól\nAz állítások hossza és száma előre nem tervezhető\, ezért nem tudjuk pontosan megadni\, mikor lesz vége.\n \nA részvétel regisztrációhoz kötött. A foglalkozáson részt vevők létszáma maximum 7 fő. Annak érdekében\, hogy Mindenki beállításra kerüljön\, állítók száma max. 3 fő csoportonként. Segítőknek a részvétel ingyenes\, adományokat a központ fenntartása céljából örömmel fogadunk. Az állítók számára ajánlott javadalmazás 18.000 Ft.Állítókkal előzetes egyeztetés szükséges\, mely egyeztetés online vagy telefonos formában zajlik. \nvezető: dr. Mészáros ZsófiaJelentkezni: mzsofiadr@gmail.com A jelentkezésnél kérjük megjelölni\, hogy állítóként\, vagy segítőként kíván részt venni. \nA Hellinger-féle családállításról alapvető információkat ezen az oldalon találsz.
URL:https://www.letezesorome.hu/event/helyzetallitas/
LOCATION:Budapest
CATEGORIES:Blokkoldás,Családállítás,Lelki fejlődés,Önismeret
ATTACH;FMTTYPE=image/jpeg:https://www.letezesorome.hu/wp-content/uploads/2024/11/Csalad-es-rendszerallitas_Meszaros-Zsofi2.jpg
ORGANIZER;CN="Krisztics %C3%81gnes":MAILTO:letezesoromekozpont@gmail.com
END:VEVENT
END:VCALENDAR