BEGIN:VCALENDAR
VERSION:2.0
PRODID:-//Létezés Öröme - ECPv6.15.16//NONSGML v1.0//EN
CALSCALE:GREGORIAN
METHOD:PUBLISH
X-ORIGINAL-URL:https://www.letezesorome.hu
X-WR-CALDESC:Események Létezés Öröme
REFRESH-INTERVAL;VALUE=DURATION:PT1H
X-Robots-Tag:noindex
X-PUBLISHED-TTL:PT1H
BEGIN:VTIMEZONE
TZID:UTC
BEGIN:STANDARD
TZOFFSETFROM:+0000
TZOFFSETTO:+0000
TZNAME:UTC
DTSTART:20230101T000000
END:STANDARD
END:VTIMEZONE
BEGIN:VEVENT
DTSTART;TZID=UTC:20240426T180000
DTEND;TZID=UTC:20240428T123000
DTSTAMP:20260422T074051
CREATED:20240412T182446Z
LAST-MODIFIED:20250325T213451Z
UID:10000193-1714154400-1714307400@www.letezesorome.hu
SUMMARY:Jógik tükre
DESCRIPTION:Regisztrációhoz kötött program. \nIsmerd meg magad úgy mint még soha\, nézz bele a légzésed tükrébe\, és lásd legmélyebb önmagad a meditációban!  \nA beharangozó foglalkozásról felvétel készült. \nMegtekinthető ezen a linken \nEzen a hétvégét felölelő foglalkozáson a lélekzetünk üzeneteit tanuljuk meg érzelmezni\, és a légzéstechnikák elménket irányítani képes erejét fedezzük fel. Amilyen módon lélegzünk\, olyan a tudatállapotunk\, tehát közvetlen kapcsolat van a légzés\, és a lelkiállapotunk között. Ennek az erejét hasznája a jóga az önismeretben\, és a meditációban. \nEgy rövid szösszenet a légzés fontosságáról\, itt \nSemmilyen előképzettség nem szükséges\, sőt az előny! Gyere nyitott befogadó szellemben! \nRegisztráció:https://forms.gle/sX3yydcjJwuNiYop6 \nAz önismereti foglalkozás ára:25.000 Ft\, amiből 10.000 Ft-ot előre kérek regisztrációs díjként. \nHa a levegővételünk\, avagy a pránamozgásunk mintázatát harmónikusabbra rajzoljuk\, annak megfelelően az egyensúly létrejön a finomabb dimenzióinkban.A lélegzés művészete nem csupán harmónizál\, és gyógyít\, de a spiritualitás legtávolabbi céljaihoz is elvezet! \nRészlezes programterv : \n04.26. Péntek18:00 – 19:30 Hangolódás\, első önismereti lépések\, és meditáció tesztelés. \n04.27. Szombat09:00 – 12:30 \nElméleti előadás:A lélegzés hatása a lényünk dimenzióira\, kiváltképp a bennünk lévő férfias és nőies minőségekre.Gyakorlás:Légzés analízis az önismeretért\, és a Bhagavad Gíta meditációs titka a gyakorlatban \n04. 28. Vasárnap09:00 – 12:30 \nElméleti előadás:Hogyan képes „minden” betegséget gyógyítani a légzés\, és miként tisztít meg a múlt káros lenyomataitól (karmától).Gyakorlás:Korlátozó pszichikus csomók átvágása\, valamint meditáció léleKzet mantrával\, és az érzékelést befelé fordító technikákkal. \nSzeretettel várok mindenkit \nKérdések a programról\, kapcsolat a foglalkozás vezetőjével:Tucsa Lajos / Loka Bandhu dász:meditáció oktató\, védikus tanító\, indiai utak túravezetője\, a Bhagavad-gíta és a jógikus hagyomány lelkes kutatója.+36 70 850 5011bensokelet108@gmail.com \nMeditáció – Tucsa Lajos \n \n			\n				\n				\n				\n				\n				\n				\n			\n				\n				\n				\n				\n				\n				\n					Első kézből értesülhet aktuális programjainkról.Ezen felül fontos metafizikai témákról szóló ajándékot állítottunk össze Önnek\,melyet a feliratkozást követően automatikusan elküldünk. \n					\n					Feliratkozás és ajándék itt érhető el
URL:https://www.letezesorome.hu/event/jogik-tukre/
LOCATION:Létezés Öröme Spirituális és Meditációs Központ\, Lövőház u. 29. 1.emelet\, Budapest\, Budapest\, 1024\, Hungary
CATEGORIES:Energetika,Jóga,Mantra,Meditáció,Önismeret
ATTACH;FMTTYPE=image/jpeg:https://www.letezesorome.hu/wp-content/uploads/2024/04/Jogik-tukre_Loka.jpg
ORGANIZER;CN="Horny%C3%A1k K%C3%A1roly":MAILTO:letezesoromekozpont@gmail.com
END:VEVENT
END:VCALENDAR