BEGIN:VCALENDAR
VERSION:2.0
PRODID:-//Létezés Öröme - ECPv6.15.16//NONSGML v1.0//EN
CALSCALE:GREGORIAN
METHOD:PUBLISH
X-ORIGINAL-URL:https://www.letezesorome.hu
X-WR-CALDESC:Események Létezés Öröme
REFRESH-INTERVAL;VALUE=DURATION:PT1H
X-Robots-Tag:noindex
X-PUBLISHED-TTL:PT1H
BEGIN:VTIMEZONE
TZID:UTC
BEGIN:STANDARD
TZOFFSETFROM:+0000
TZOFFSETTO:+0000
TZNAME:UTC
DTSTART:20230101T000000
END:STANDARD
END:VTIMEZONE
BEGIN:VEVENT
DTSTART;TZID=UTC:20241204T180000
DTEND;TZID=UTC:20241204T200000
DTSTAMP:20260423T201126
CREATED:20240711T052907Z
LAST-MODIFIED:20250325T212551Z
UID:10002032-1733335200-1733342400@www.letezesorome.hu
SUMMARY:Kaczvinszky József élete\, művei és tanítása
DESCRIPTION:Kaczvinszky József élete\, művei és tanítása címmel havi (négyheti) rendszerességű előadás sorozat indul a Létezés Öröme Központban. Kaczvinszky József egy magyar jógi volt\, a rádzsa jóga mestere. Életében egységet alkotott a tanító tevékenység és a szakírói munkásság. A negyvenes évek közepétől a köréje szerveződött tanítványoknak személyesen adta át a jóga tanítását. Tanítványai számára egyértelmű volt\, hogy mesterük rendelkezik azzal a végső tudással\, melynek megszerzéséről írásai szólnak. \nAdomány alapú\, helyfoglaláshoz kötött program!Ajánlott adomány: 1.000-2.000 FtKérjük a részvételi szándék jelzését az esemény alatti űrlap kitöltésével\, vagy Hornyák Károly  06 30 499 3310 letezesoromekozpont@gmail.com \nAz ezt következő alkalom időpontja: december 4 \nA programot vezeti: Fekete István Gábor (matematikai múlt\, PhD)\, ahttps://kaczvinszky.hu/honlap szerkesztője\, a hagyaték egyik gondozója. \nKaczvinszky írásai alapján lenyűgöző képet alkothatunk az egyetemes emberi életútról\, melynek kiindulópontja és majdani végállomása egyaránt az Egyetemes-Lélek\, az Abszolútom. Az egyéni élet ennek foglalatában nyer értelmet. Életében csak Kelet világossága jelent meg (1942-1943)\, amely mintegy ötven évvel később újból kiadásra került (Kötet\, 1994-1995). A háromkötetes mű\, mely tartalmazza Patandzsali Yoga-aforizmái fordítását és magyarázatát is\, teljes körű és átfogó ismertetést nyújt a rádzsa jóga egyetemes rendszeréről. További művei közül kiemelkedik A hét beavatás és a Tanácsok\, de az Aforizmák vagy az F-napló\, illetve az „Aranyvirág”  fordítása is igen értékes és szerves része az írásos életműnek. \nAz előzetes tájékozódás megkönnyítése végett\, ajánljuk a jógáról szóló oldalunkat\, ahol a jóga magyarországi történetéről is olvashatnak:https://www.letezesorome.hu/joga/ \nA komoly érdeklődőknek a következő előkészületeket javasoljuk: \n\na két honlap tanulmányozása\,\na lejjebb beszerkesztett riport megtekintése;\na Tanácsok elolvasása (jelenleg csak a fenti honlapon érhető el) \na Kelet világossága I-II-III. beszerzése (csak a Kötet Kiadó terméke ajánlott)\n\nAz előadóval bármely hétfői napon 18 órakor egyéni konzultáció is lehetséges; a szándékot kérjük legalább két nappal korábban jelezni (e-mail cím: fekete.istvan51@gmail.com). A helyszín a válaszlevélben kerül megadásra. \nVégül\, egy idézet Kaczvinszkytól\, 1942-ből: „Minden világfelfordulás közepette különösen korszerű önmagunkkal és valamely abszolút biztonságot nyújtó tannal foglalkoznunk.”  \n			\n				\n				\n				\n				\n				\n				\n			\n				\n				\n				\n				\n				\n				\n					Első kézből értesülhet aktuális programjainkról.Ezen felül fontos metafizikai témákról szóló ajándékot állítottunk össze Önnek\,melyet a feliratkozást követően automatikusan elküldünk. \n					\n					Feliratkozás és ajándék itt érhető el \n				\n			\n			\n				\n				\n				\n				\n			\n				\n				\n				\n				\n				\n				\n				\n				\n				\n				\n				Mielőtt megnyomná a “foglalok” gombot\, kérjük\, hogy azt kellő mérlegeléssel\, és felelősségtudattal tegye! Eddigi tapasztalataink szerint a jelentkezésekhez képest elég gyenge a megjelenési arány\, és egyes programoknál az is megesik\, hogy olyanoknak nincs lehetőségük jelentkezni\, akik örömmel eljöttek volna.
URL:https://www.letezesorome.hu/event/kaczvinszky-jozsef/
LOCATION:Létezés Öröme Spirituális és Meditációs Központ\, Lövőház u. 29. 1.emelet\, Budapest\, Budapest\, 1024\, Hungary
CATEGORIES:Előadás,Filozófia,Ismeretterjesztés,Jóga,Meditáció
ATTACH;FMTTYPE=image/jpeg:https://www.letezesorome.hu/wp-content/uploads/2024/07/Om-mandala1b.jpg
ORGANIZER;CN="Horny%C3%A1k K%C3%A1roly":MAILTO:letezesoromekozpont@gmail.com
END:VEVENT
END:VCALENDAR