BEGIN:VCALENDAR
VERSION:2.0
PRODID:-//Létezés Öröme - ECPv6.15.16//NONSGML v1.0//EN
CALSCALE:GREGORIAN
METHOD:PUBLISH
X-WR-CALNAME:Létezés Öröme
X-ORIGINAL-URL:https://www.letezesorome.hu
X-WR-CALDESC:Események Létezés Öröme
REFRESH-INTERVAL;VALUE=DURATION:PT1H
X-Robots-Tag:noindex
X-PUBLISHED-TTL:PT1H
BEGIN:VTIMEZONE
TZID:UTC
BEGIN:STANDARD
TZOFFSETFROM:+0000
TZOFFSETTO:+0000
TZNAME:UTC
DTSTART:20240101T000000
END:STANDARD
END:VTIMEZONE
BEGIN:VEVENT
DTSTART;TZID=UTC:20250314T170000
DTEND;TZID=UTC:20250314T190000
DTSTAMP:20260421T182139
CREATED:20250211T174417Z
LAST-MODIFIED:20250325T211949Z
UID:10002049-1741971600-1741978800@www.letezesorome.hu
SUMMARY:Kelet életérzés\, Dél-India - úti beszámoló + ajándék meditáció
DESCRIPTION:A Kelet életérzés keretében ez alkalommal a Dél India béli Tirupatiba\, és Tamil Nadu varázslatos zarándokhelyeire vezetem el a közönséget.  (ajándék meditáció 20 óráig – opcionális)  \n\nMesélek ősi legendákat\, beszámolok India 2. leggazdagabb templomának mesébe illő kincseiről\, megosztom a máig élő hagyományának tanulságait\, és együtt csodalkozunk majd rá bizonyos helyek megmagyarázhatatlan érdekességeire. \n   \nMár több mint 20 éve járom Indiát\, de máig átformálóan mély benyomást tesz rám. Újra és újra felráz az egyszerre nyugodt és kaotikus hangulatával\, a megrázó és lenyűgöző jelenségeivel\, jó érzést ad mind az egyszerűsége és a pompája\, megtanít a ráérősségre\, de az életrevalóságra is\, és rendszeresen elgondolkodtat az egymásnak feszülő tradíció és modern élet értékeiről\, csapdáiról.\n \nVárlak egy izgalmas úti beszámolóra\, ahol változatosan érdekes témákat érintünk majd! \nAz előadást követően maradj még 1 órát meditálni! Az elmélyüléshez a jóga légzéstechnikáit használjuk\, ezzel egy hatékony meditációs módszert ismerhetsz meg! \n\n \nAz előadás ára: \n3 500 Ft\, amit előre kérünk regisztrációs díjként.\nJelentkezés itt: https://forms.gle/8JLhm7HfD4iea5R97\n \nKérdések a programról\, kapcsolat a foglalkozás vezetőjével:\nTucsa Lajos / Lóka :+36 70 850 5011bensokelet108@gmail.com\nBenső Kelet facebook oldal\n \n\n\n\n\nA meditációról:\nA meditációs állapotra\, az elme mély csendjére időnként szükségünk van\, az elmén túltekintve pillanthatjuk meg legmélyebb önmagunkat\, és felfedezhetjük a látszat mögötti egészebb természetünket.\nA befelé tekintés nem csupán a felfedezői vágy egy új dimenziója\, de belül rendet téve\, önmagunkat hiánytalannak megismerve élhetjük meg az életet igazán\, egészségesen.\nA jóga tanítások szerint bennünk lakozik az öröklét (szat)\, a tudás (csit)\, és a gyönyör (ánanda) A meditációs technikák lényege\, hogy értve az ember működését\, arra való módszerekkel belevezetnek a mélymeditációs állapotba\, amiben képessé válunk közvetlenül megtapasztalni lényünk misztériumait. Ebből kapunk ízelítőt a foglalkozás során!\n \nVárok mindenkit szeretettel!\n \n \n \n\n\n\n\n\n			\n				\n				\n				\n				\n				\n				\n			\n				\n				\n				\n				\n				\n				\n					Első kézből értesülhet aktuális programjainkról.\nEzen felül fontos metafizikai témákról szóló ajándékot állítottunk össze Önnek\,\nmelyet a feliratkozást követően automatikusan elküldünk. \n					\n					Feliratkozás és ajándék itt érhető el
URL:https://www.letezesorome.hu/event/kelet-eleterzes-del-india/
LOCATION:Létezés Öröme Spirituális és Meditációs Központ\, Lövőház u. 29. 1.emelet\, Budapest\, Budapest\, 1024\, Hungary
CATEGORIES:Előadás,Ismeretterjesztés,Meditáció,Utazás
ATTACH;FMTTYPE=image/jpeg:https://www.letezesorome.hu/wp-content/uploads/2025/02/Kelet-eleterzes_Loka2.jpg
ORGANIZER;CN="Horny%C3%A1k K%C3%A1roly":MAILTO:letezesoromekozpont@gmail.com
END:VEVENT
END:VCALENDAR